BEGIN:VCALENDAR
VERSION:2.0
PRODID:-//Landesjugendchor Südtirol - ECPv6.10.2//NONSGML v1.0//EN
CALSCALE:GREGORIAN
METHOD:PUBLISH
X-ORIGINAL-URL:https://landesjugendchor.bz.it
X-WR-CALDESC:Veranstaltungen für Landesjugendchor Südtirol
REFRESH-INTERVAL;VALUE=DURATION:PT1H
X-Robots-Tag:noindex
X-PUBLISHED-TTL:PT1H
BEGIN:VTIMEZONE
TZID:Europe/Berlin
BEGIN:DAYLIGHT
TZOFFSETFROM:+0100
TZOFFSETTO:+0200
TZNAME:CEST
DTSTART:20250330T010000
END:DAYLIGHT
BEGIN:STANDARD
TZOFFSETFROM:+0200
TZOFFSETTO:+0100
TZNAME:CET
DTSTART:20251026T010000
END:STANDARD
END:VTIMEZONE
BEGIN:VEVENT
DTSTART;TZID=Europe/Berlin:20251004T190000
DTEND;TZID=Europe/Berlin:20251004T210000
DTSTAMP:20260420T055752
CREATED:20250919T153507Z
LAST-MODIFIED:20250919T154045Z
UID:2351-1759604400-1759611600@landesjugendchor.bz.it
SUMMARY:Jubiläumskonzert im Kurhaus Meran
DESCRIPTION:2025 feiern wir 15 Jahre Landesjugendchor Südtirol. Am 4. Oktober präsentieren wir unser Jubiläumskonzert im Kurhaus in Meran – ein besonderes Event\, bei dem neben der aktuellen Besetzung auch ehemalige Sängerinnen und Sänger sowie Chorleiterinnen und Chorleiter auftreten. Seien Sie dabei!
URL:https://landesjugendchor.bz.it/event/jubilaeumskonzert-im-kurhaus-meran/
LOCATION:Kurhaus Meran\, Freiheitsstr. 33\, Meran\, Bozen\, 39012\, Italien
CATEGORIES:Chorkonzert
ATTACH;FMTTYPE=image/jpeg:https://landesjugendchor.bz.it/wp-content/uploads/2025/09/IMG_8463-scaled.jpg
END:VEVENT
END:VCALENDAR