BEGIN:VCALENDAR
VERSION:2.0
PRODID:-//Landesjugendchor Südtirol - ECPv6.10.2//NONSGML v1.0//EN
CALSCALE:GREGORIAN
METHOD:PUBLISH
X-WR-CALNAME:Landesjugendchor Südtirol
X-ORIGINAL-URL:https://landesjugendchor.bz.it
X-WR-CALDESC:Veranstaltungen für Landesjugendchor Südtirol
REFRESH-INTERVAL;VALUE=DURATION:PT1H
X-Robots-Tag:noindex
X-PUBLISHED-TTL:PT1H
BEGIN:VTIMEZONE
TZID:Europe/Berlin
BEGIN:DAYLIGHT
TZOFFSETFROM:+0100
TZOFFSETTO:+0200
TZNAME:CEST
DTSTART:20210328T010000
END:DAYLIGHT
BEGIN:STANDARD
TZOFFSETFROM:+0200
TZOFFSETTO:+0100
TZNAME:CET
DTSTART:20211031T010000
END:STANDARD
BEGIN:DAYLIGHT
TZOFFSETFROM:+0100
TZOFFSETTO:+0200
TZNAME:CEST
DTSTART:20220327T010000
END:DAYLIGHT
BEGIN:STANDARD
TZOFFSETFROM:+0200
TZOFFSETTO:+0100
TZNAME:CET
DTSTART:20221030T010000
END:STANDARD
BEGIN:DAYLIGHT
TZOFFSETFROM:+0100
TZOFFSETTO:+0200
TZNAME:CEST
DTSTART:20230326T010000
END:DAYLIGHT
BEGIN:STANDARD
TZOFFSETFROM:+0200
TZOFFSETTO:+0100
TZNAME:CET
DTSTART:20231029T010000
END:STANDARD
BEGIN:DAYLIGHT
TZOFFSETFROM:+0100
TZOFFSETTO:+0200
TZNAME:CEST
DTSTART:20240331T010000
END:DAYLIGHT
BEGIN:STANDARD
TZOFFSETFROM:+0200
TZOFFSETTO:+0100
TZNAME:CET
DTSTART:20241027T010000
END:STANDARD
BEGIN:DAYLIGHT
TZOFFSETFROM:+0100
TZOFFSETTO:+0200
TZNAME:CEST
DTSTART:20250330T010000
END:DAYLIGHT
BEGIN:STANDARD
TZOFFSETFROM:+0200
TZOFFSETTO:+0100
TZNAME:CET
DTSTART:20251026T010000
END:STANDARD
END:VTIMEZONE
BEGIN:VTIMEZONE
TZID:UTC
BEGIN:STANDARD
TZOFFSETFROM:+0000
TZOFFSETTO:+0000
TZNAME:UTC
DTSTART:20220101T000000
END:STANDARD
END:VTIMEZONE
BEGIN:VEVENT
DTSTART;VALUE=DATE:20251108
DTEND;VALUE=DATE:20251110
DTSTAMP:20260419T152723
CREATED:20251003T083819Z
LAST-MODIFIED:20251003T083937Z
UID:2396-1762570800-1762657199@landesjugendchor.bz.it
SUMMARY:Vorsingen 2025
DESCRIPTION:Am 8. November ist es wieder so weit: Vorsingen in Brixen!Du bist zwischen 16 und 28\, liebst es zu singen und hast Lust auf coole Chorprojekte?Dann nutz deine Chance und bewirb dich jetzt! \n\n 
URL:https://landesjugendchor.bz.it/event/vorsingen-2025/
ATTACH;FMTTYPE=image/jpeg:https://landesjugendchor.bz.it/wp-content/uploads/2025/10/LJC_Vorsingen_25-scaled.jpg
END:VEVENT
BEGIN:VEVENT
DTSTART;TZID=Europe/Berlin:20251004T190000
DTEND;TZID=Europe/Berlin:20251004T210000
DTSTAMP:20260419T152723
CREATED:20250919T153507Z
LAST-MODIFIED:20250919T154045Z
UID:2351-1759604400-1759611600@landesjugendchor.bz.it
SUMMARY:Jubiläumskonzert im Kurhaus Meran
DESCRIPTION:2025 feiern wir 15 Jahre Landesjugendchor Südtirol. Am 4. Oktober präsentieren wir unser Jubiläumskonzert im Kurhaus in Meran – ein besonderes Event\, bei dem neben der aktuellen Besetzung auch ehemalige Sängerinnen und Sänger sowie Chorleiterinnen und Chorleiter auftreten. Seien Sie dabei!
URL:https://landesjugendchor.bz.it/event/jubilaeumskonzert-im-kurhaus-meran/
LOCATION:Kurhaus Meran\, Freiheitsstr. 33\, Meran\, Bozen\, 39012\, Italien
CATEGORIES:Chorkonzert
ATTACH;FMTTYPE=image/jpeg:https://landesjugendchor.bz.it/wp-content/uploads/2025/09/IMG_8463-scaled.jpg
END:VEVENT
BEGIN:VEVENT
DTSTART;TZID=Europe/Berlin:20250615T150000
DTEND;TZID=Europe/Berlin:20250615T163000
DTSTAMP:20260419T152723
CREATED:20250310T115126Z
LAST-MODIFIED:20250310T115126Z
UID:2132-1749999600-1750005000@landesjugendchor.bz.it
SUMMARY:Konzert im Ragenhaus Bruneck
DESCRIPTION:
URL:https://landesjugendchor.bz.it/event/konzert-im-ragenhaus-bruneck/
LOCATION:Ragenhaus Bruneck\, Paul -von- Sternbach- Str. 3\, Bruneck\, 39031\, Italien
END:VEVENT
BEGIN:VEVENT
DTSTART;TZID=Europe/Berlin:20250614T200000
DTEND;TZID=Europe/Berlin:20250614T213000
DTSTAMP:20260419T152723
CREATED:20250417T130055Z
LAST-MODIFIED:20250417T130118Z
UID:2239-1749931200-1749936600@landesjugendchor.bz.it
SUMMARY:Konzert in der Pfarrkirche St.Michael\, Brixen
DESCRIPTION:
URL:https://landesjugendchor.bz.it/event/konzert-in-der-pfarrkirche-st-michael-brixen/
LOCATION:Pfarrkirche St. Michael\, Brixen\, Domplatz 1\, Brixen\, Italien
END:VEVENT
BEGIN:VEVENT
DTSTART;TZID=Europe/Berlin:20241013T100000
DTEND;TZID=Europe/Berlin:20241013T110000
DTSTAMP:20260419T152723
CREATED:20240512T175350Z
LAST-MODIFIED:20240528T164744Z
UID:1897-1728813600-1728817200@landesjugendchor.bz.it
SUMMARY:Messgestaltung zum Landessingen im Brixner Dom
DESCRIPTION:
URL:https://landesjugendchor.bz.it/event/messgestaltung-zum-landessingen-im-brixner-dom/
LOCATION:Brixner Dom\, Domplatz\, Brixen\, 39042\, Italien
CATEGORIES:Messgestaltung
ATTACH;FMTTYPE=image/jpeg:https://landesjugendchor.bz.it/wp-content/uploads/2024/05/APR_9366-scaled.jpg
END:VEVENT
BEGIN:VEVENT
DTSTART;TZID=Europe/Berlin:20240915T203000
DTEND;TZID=Europe/Berlin:20240915T213000
DTSTAMP:20260419T152723
CREATED:20240512T181001Z
LAST-MODIFIED:20240512T181215Z
UID:1901-1726432200-1726435800@landesjugendchor.bz.it
SUMMARY:Konzert in St. Leonhard in Passeier zum Festival Meran.o
DESCRIPTION:Am 15. September 2024 wird der Südtiroler Landesjugendchor im Rahmen des Südtirol Festivals Meran.o in der Pfarrkirche von St. Leonhard in Passeier ein Konzert geben. \nTickets sind auf der Webseite des Festivals erhältlich: \nhttps://www.meranofestival.com/konzerte/vox-humana/landesjugendchor-suedtirol
URL:https://landesjugendchor.bz.it/event/konzert-in-st-leonhard-in-passeier-zum-festival-meran-o/
LOCATION:Pfarrkirche St. Leonhard in Passeier\, Kirchenweg 27\, St. Leonhard in Passeier\, 39015\, Italien
CATEGORIES:Chorkonzert
ATTACH;FMTTYPE=image/jpeg:https://landesjugendchor.bz.it/wp-content/uploads/2022/05/Landes-Jugendchor-Suedtirol-apr-2022-66-scaled.jpg
END:VEVENT
BEGIN:VEVENT
DTSTART;TZID=Europe/Berlin:20240609T150000
DTEND;TZID=Europe/Berlin:20240609T170000
DTSTAMP:20260419T152723
CREATED:20240527T103812Z
LAST-MODIFIED:20240528T164613Z
UID:1993-1717945200-1717952400@landesjugendchor.bz.it
SUMMARY:Songs of Hope | Sommerkonzert 2024
DESCRIPTION:Unser Programm: \n\nMiserere – James MacMillan (1959)\nGebet (opus 60 Nr. 4) – Max Bruch (1838 – 1920)\nPater noster (op. 51) – Max Georg Baumann (1917 – 1999)\nGloria aus: Missa Brevis (1984) – Knut Nystedt (1915 – 2014)\nHeilig – Niel van der Watt (1962)\nPacem – Don Macdonald (1966)\nLähtenemmä Laulamahan – Heikki Valpola (1946)\nRivers of Light – Ēriks Ešenvalds (1977)\nSelene’s Boat – Don Macdonald (1966)\nThe Luckiest – Ben Folds\, arr: Jim Clements\nGøta – Peder Karlsson (1963)\nHe’s Got the Whole World in His Hands – African American spiritual\, arr.: Cedric Dent\nWade in the water – African American Spiritual\, arr: Allen Koepke
URL:https://landesjugendchor.bz.it/event/songs-of-hope-sommerkonzert-2024/
LOCATION:Pfarrkirche St. Michael\, Brixen\, Domplatz 1\, Brixen\, Italien
CATEGORIES:Chorkonzert
ATTACH;FMTTYPE=image/jpeg:https://landesjugendchor.bz.it/wp-content/uploads/2024/05/APR_9471_corr-scaled.jpg
END:VEVENT
BEGIN:VEVENT
DTSTART;TZID=Europe/Berlin:20240526T170000
DTEND;TZID=Europe/Berlin:20240526T170000
DTSTAMP:20260419T152723
CREATED:20240512T191300Z
LAST-MODIFIED:20240513T130003Z
UID:1959-1716742800-1716742800@landesjugendchor.bz.it
SUMMARY:Gastauftritt im Bozner Dom beim Jubiläumskonzert: "20 Jahre Brummnet\, 25 Jahre Vinzentiner Mädchenchor"
DESCRIPTION:
URL:https://landesjugendchor.bz.it/event/gastauftritt-im-bozner-dom-beim-jubilaeumskonzert-20-jahre-brummnet-25-jahre-vinzentiner-maedchenchor/
LOCATION:Bozner Dom\, Pfarrplatz 27\, Bozen\, 39100\, Italien
CATEGORIES:Gastauftritt
END:VEVENT
BEGIN:VEVENT
DTSTART;TZID=Europe/Berlin:20240525T190000
DTEND;TZID=Europe/Berlin:20240525T190000
DTSTAMP:20260419T152723
CREATED:20240512T190756Z
LAST-MODIFIED:20240517T113423Z
UID:1950-1716663600-1716663600@landesjugendchor.bz.it
SUMMARY:Gastauftritt im Brixner Dom beim Jubiläumskonzert: "20 Jahre Brummnet\, 25 Jahre Vinzentiner Mädchenchor"
DESCRIPTION:Krtenvormerkungen im Tourismusbüro Brixen oder unter organisation@musikbrixen.it \nMehr Informationen finden Sie auch auf der Webseite www.musikbrixen.it
URL:https://landesjugendchor.bz.it/event/gastauftritt-im-brixner-dom-beim-jubilaeumskonzert-20-jahre-brummnet-25-jahre-vinzentiner-maedchenchor/
LOCATION:Brixner Dom\, Domplatz\, Brixen\, 39042\, Italien
CATEGORIES:Gastauftritt
END:VEVENT
BEGIN:VEVENT
DTSTART;TZID=Europe/Berlin:20240421T090000
DTEND;TZID=Europe/Berlin:20240421T100000
DTSTAMP:20260419T152723
CREATED:20240415T181506Z
LAST-MODIFIED:20240417T173524Z
UID:1852-1713690000-1713693600@landesjugendchor.bz.it
SUMMARY:Messgestaltung in der Pfarrkirche St. Michael\, Brixen
DESCRIPTION:
URL:https://landesjugendchor.bz.it/event/auftritt-in-der-pfarrkirche-st-michael-brixen/
LOCATION:Pfarrkirche St. Michael\, Brixen\, Domplatz 1\, Brixen\, Italien
CATEGORIES:Messgestaltung
ATTACH;FMTTYPE=image/jpeg:https://landesjugendchor.bz.it/wp-content/uploads/2023/04/SuedtirolerJugendchor-1-scaled.jpg
END:VEVENT
BEGIN:VEVENT
DTSTART;TZID=Europe/Berlin:20231217T163000
DTEND;TZID=Europe/Berlin:20231217T173000
DTSTAMP:20260419T152723
CREATED:20231208T214240Z
LAST-MODIFIED:20231208T214330Z
UID:1839-1702830600-1702834200@landesjugendchor.bz.it
SUMMARY:Adventskonzert in Leifers
DESCRIPTION:Adventskonzert „Sing for myself“\n\n\n\n\n\n\n\n\nPROGRAMM\nOrlando Gibbons (1583-1625)\nDrop\, drop\, slow tears \nClaudio Monteverdi (1567–1643)\nChriste\, adoramus te (a 5 voci) SV 294\n(from: Libro Primo de Motetti\, Giulio Cesare Bianchi) \nSergey Khvoshchinsky (1957)\nBogoroditse Devo\, raduysia \nHendrik Hofmeyr (1957)\nGenesis \nZ. Randall Stroope (1953)\nIn paradisum \nJohn August Pamintuan (b.1972)\nIn supremae nocte cenae \nAlfred Schnittke (1934-1998)\nBogoroditse devo\, raduysya\, Blagodatnaya Maria \n(from: Three Sacred Hymns) \nJoshua Shank (1980)\nGabriel’s Message \nAfrican American spiritual\, arr.: Cedric Dent\nHe’s got the whole world \nAfrican American Spiritual\, arr.: Mia Makaroff (1970)\nDidn‘t My Lord Deliver Daniel \narr.: Mbuso Ndlovu\nYehla Moya (South African\, isiZulu Spiritual) \nMbuso Ndlovu (1982)\nNgivumeleni – Text. SiSwati Traditional (South Africa) \n\n\n\n\n\n\n\n\nTraditional IsiXhosa arr.: M. Barrett\nNdikhokhele Bawo \n\n\n\n\n\nLeitung: JOHANN VAN DER SANDT\nStudierte Chorleitung an der Universität von Pretoria (Südafrika) sowie am Institut für Chorleiterausbildung in Gorinchem (NL). Als gefragter Juror\, Dirigent und Dozentist er auf nationaler und internationaler Ebene tätig. Zahlreiche Erfolge begleiten seine künstlerische Karriere.\nDer Drakensberger Knabenchor zum Beispiel entwickelte sich unter seiner Leitung zu einem der besten Knabenchöre weltweit. Derzeit ist er Professor für Musikpädagogik an der Universität Bozen. Seit 2018 leitet er unseren Landesjugendchor. \nStimmbildnerin Petra Sölva \nChororganisator Klaus Gufler
URL:https://landesjugendchor.bz.it/event/adventskonzert-in-leifers/
LOCATION:Pfarrkirche St. Anton Abt und Nikolaus – Leifers\, Weißensteinerstraße 58\, Leifers\, 39055\, Italien
CATEGORIES:Chorkonzert
ATTACH;FMTTYPE=image/jpeg:https://landesjugendchor.bz.it/wp-content/uploads/2022/05/Landes-Jugendchor-Suedtirol-apr-2022-66-scaled.jpg
END:VEVENT
BEGIN:VEVENT
DTSTART;TZID=Europe/Berlin:20231216T180000
DTEND;TZID=Europe/Berlin:20231216T190000
DTSTAMP:20260419T152723
CREATED:20231208T214048Z
LAST-MODIFIED:20231208T214049Z
UID:1837-1702749600-1702753200@landesjugendchor.bz.it
SUMMARY:Adventskonzert in Pfalzen
DESCRIPTION:Adventskonzert „Sing for myself“\n\n\n\n\n\n\n\n\nPROGRAMM\nOrlando Gibbons (1583-1625)\nDrop\, drop\, slow tears \nClaudio Monteverdi (1567–1643)\nChriste\, adoramus te (a 5 voci) SV 294\n(from: Libro Primo de Motetti\, Giulio Cesare Bianchi) \nSergey Khvoshchinsky (1957)\nBogoroditse Devo\, raduysia \nHendrik Hofmeyr (1957)\nGenesis \nZ. Randall Stroope (1953)\nIn paradisum \nJohn August Pamintuan (b.1972)\nIn supremae nocte cenae \nAlfred Schnittke (1934-1998)\nBogoroditse devo\, raduysya\, Blagodatnaya Maria \n(from: Three Sacred Hymns) \nJoshua Shank (1980)\nGabriel’s Message \nAfrican American spiritual\, arr.: Cedric Dent\nHe’s got the whole world \nAfrican American Spiritual\, arr.: Mia Makaroff (1970)\nDidn‘t My Lord Deliver Daniel \narr.: Mbuso Ndlovu\nYehla Moya (South African\, isiZulu Spiritual) \nMbuso Ndlovu (1982)\nNgivumeleni – Text. SiSwati Traditional (South Africa) \n\n\n\n\n\n\n\n\nTraditional IsiXhosa arr.: M. Barrett\nNdikhokhele Bawo \n\n\n\n\n\nLeitung: JOHANN VAN DER SANDT\nStudierte Chorleitung an der Universität von Pretoria (Südafrika) sowie am Institut für Chorleiterausbildung in Gorinchem (NL). Als gefragter Juror\, Dirigent und Dozentist er auf nationaler und internationaler Ebene tätig. Zahlreiche Erfolge begleiten seine künstlerische Karriere.\nDer Drakensberger Knabenchor zum Beispiel entwickelte sich unter seiner Leitung zu einem der besten Knabenchöre weltweit. Derzeit ist er Professor für Musikpädagogik an der Universität Bozen. Seit 2018 leitet er unseren Landesjugendchor. \nStimmbildnerin Petra Sölva \nChororganisator Klaus Gufler
URL:https://landesjugendchor.bz.it/event/adventskonzert-in-pfalzen/
LOCATION:Pfarrkirche zum Hl. Cyriacus – Pfalzen\, Piazza Municipio 1\, Pfalzen\, 39030\, Italien
CATEGORIES:Chorkonzert
ATTACH;FMTTYPE=image/png:https://landesjugendchor.bz.it/wp-content/uploads/2023/11/LJC.png
END:VEVENT
BEGIN:VEVENT
DTSTART;TZID=Europe/Berlin:20230611T160000
DTEND;TZID=Europe/Berlin:20230611T180000
DTSTAMP:20260419T152723
CREATED:20230516T080255Z
LAST-MODIFIED:20230516T080620Z
UID:1790-1686499200-1686506400@landesjugendchor.bz.it
SUMMARY:An die Musik | Sommerkonzerte 2023
DESCRIPTION:Unser Programm: \n\nBenedicamus Domino – Brad Printz (1955 – 2005)\nIn paradisum –  Z. Randall Stroope (1953)\nBogoroditse Devo\, raduysia –  Sergey Khvoshchinsky (1957)\nEarth song – Frank Ticheli (1958)\nGabriel’s Message\, arr.: Joshua Shank\nAn die Musik – Jake Runestad (1986) | Klavier: Bea de Wit\nRitmo – Dan Davison (1956) | Klavier: Bea de Wit & Amelie Silbernagl\nThere’s a little black train acomin’ – Ruth Crawford Seeger | Klavier: Bea de Wit\nFly to paradise – Eric Whitacre (1970) | Solo: Lisa Deltedesco\nLight of a clear blue morning – Dolly Parton\, arr.: Craig Hella Johnson |Saxophone: Alex Designori; Solo: Valentina Pichler\nI’m Gonna Sing ‚Til the Spirit Moves in My Heart – Moses Hogan (1957 – 2003)\nHe’s Got the Whole World in His Hands – African American spiritual\, arr.: Cedric Dent
URL:https://landesjugendchor.bz.it/event/an-die-musik-sommerkonzerte-2023-2/
LOCATION:Ragenhaus Bruneck\, Paul -von- Sternbach- Str. 3\, Bruneck\, 39031\, Italien
CATEGORIES:Chorkonzert
END:VEVENT
BEGIN:VEVENT
DTSTART;TZID=Europe/Berlin:20230610T190000
DTEND;TZID=Europe/Berlin:20230610T210000
DTSTAMP:20260419T152723
CREATED:20230516T080014Z
LAST-MODIFIED:20230516T080650Z
UID:1787-1686423600-1686430800@landesjugendchor.bz.it
SUMMARY:An die Musik | Sommerkonzerte 2023
DESCRIPTION:Unser Programm: \n\nBenedicamus Domino – Brad Printz (1955 – 2005)\nIn paradisum –  Z. Randall Stroope (1953)\nBogoroditse Devo\, raduysia –  Sergey Khvoshchinsky (1957)\nEarth song – Frank Ticheli (1958)\nGabriel’s Message\, arr.: Joshua Shank\nAn die Musik – Jake Runestad (1986) | Klavier: Bea de Wit\nRitmo – Dan Davison (1956) | Klavier: Bea de Wit & Amelie Silbernagl\nThere’s a little black train acomin’ – Ruth Crawford Seeger | Klavier: Bea de Wit\nFly to paradise – Eric Whitacre (1970) | Solo: Lisa Deltedesco\nLight of a clear blue morning – Dolly Parton\, arr.: Craig Hella Johnson |Saxophone: Alex Designori; Solo: Valentina Pichler\nI’m Gonna Sing ‚Til the Spirit Moves in My Heart – Moses Hogan (1957 – 2003)\nHe’s Got the Whole World in His Hands – African American spiritual\, arr.: Cedric Dent
URL:https://landesjugendchor.bz.it/event/an-die-musik-sommerkonzerte-2023/
LOCATION:Pfarrkirche Latzfons\, Latzfons\, 39043\, Italien
CATEGORIES:Chorkonzert
END:VEVENT
BEGIN:VEVENT
DTSTART;TZID=UTC:20230520T170000
DTEND;TZID=UTC:20230520T190000
DTSTAMP:20260419T152723
CREATED:20221102T093426Z
LAST-MODIFIED:20230516T075243Z
UID:1742-1684602000-1684609200@landesjugendchor.bz.it
SUMMARY:Gastauftritt @TedxBolzano
DESCRIPTION:Wir freuen uns schon mega\, bei Tedx als Gastchor auftreten zu dürfen!\nHabt ihr Lust dabei zu sein? Dann schaut mal hier rein:\nLJC-Tedx
URL:https://landesjugendchor.bz.it/event/gastauftritt-tedxbolzano/
LOCATION:Messe Bozen\, Marktstraße 1\, Bozen\, 39100\, Italien
CATEGORIES:Gastauftritt
END:VEVENT
BEGIN:VEVENT
DTSTART;TZID=UTC:20220529T110000
DTEND;TZID=UTC:20220529T123000
DTSTAMP:20260419T152723
CREATED:20220518T205958Z
LAST-MODIFIED:20220518T205958Z
UID:1730-1653822000-1653827400@landesjugendchor.bz.it
SUMMARY:Carpe Diem | Frühjahrskonzerte 2022
DESCRIPTION:Die Maikonzerte 2022 des Südtiroler Landesjugendchors stehen unter dem Motto „Carpe Diem“.\nIm Auftrag des Landesjugendchors hat der Komponist Franco Prinsloo dazu ein Werk geschrieben mit der Botschaft\, uns Menschen zum Handeln aufzurufen\,\njede Gelegenheit zu ergreifen\, die sich uns bietet\, um etwas in einer Welt zu bewegen\nUns in der Unterdrückung und in den Widrigkeiten des Krieges täglich daran zu erinnern\, wie zerbrechlich wir als Menschen sind. \nWir widmen dieses Konzert den Menschen in der Ukraine.\nWir singen in Gedanken an sie zwei Werke\, um für die Ukraine zu beten: \nein ukrainisches Gebet des britischen Komponisten John Rutter\nund ein weiteres Auftragswerk „Demütig vor Gott“ des südafrikanischen Komponisten Chris Lamprecht. \nWir möchten Sie mit auf eine Reise nehmen\, die mit Werken aus dem Barock (Bach\, Monteverdi und Scarlatti) und der Romantik (Verdi und Mendelssohn) beginnt und mit einigen weltlichen Kompositionen endet\, unter anderem mit einer Reihe von lebhaften südafrikanischen Volksliedern.
URL:https://landesjugendchor.bz.it/event/carpe-diem-fruehjahrskonzerte-2022-2/
LOCATION:Ragenhaus Bruneck\, Paul -von- Sternbach- Str. 3\, Bruneck\, 39031\, Italien
CATEGORIES:Chorkonzert
ATTACH;FMTTYPE=image/jpeg:https://landesjugendchor.bz.it/wp-content/uploads/2022/05/Landes-Jugendchor-Suedtirol-apr-2022-32-scaled.jpg
END:VEVENT
BEGIN:VEVENT
DTSTART;TZID=UTC:20220528T200000
DTEND;TZID=UTC:20220528T213000
DTSTAMP:20260419T152723
CREATED:20220518T183258Z
LAST-MODIFIED:20220518T195152Z
UID:1584-1653768000-1653773400@landesjugendchor.bz.it
SUMMARY:Carpe Diem | Frühjahrskonzerte 2022
DESCRIPTION:  \nDie Maikonzerte 2022 des Südtiroler Landesjugendchors stehen unter dem Motto „Carpe Diem“.\nIm Auftrag des Landesjugendchors hat der Komponist Franco Prinsloo dazu ein Werk geschrieben mit der Botschaft\, uns Menschen zum Handeln aufzurufen\,\njede Gelegenheit zu ergreifen\, die sich uns bietet\, um etwas in einer Welt zu bewegen\nUns in der Unterdrückung und in den Widrigkeiten des Krieges täglich daran zu erinnern\, wie zerbrechlich wir als Menschen sind. \nWir widmen dieses Konzert den Menschen in der Ukraine.\nWir singen in Gedanken an sie zwei Werke\, um für die Ukraine zu beten: \nein ukrainisches Gebet des britischen Komponisten John Rutter\nund ein weiteres Auftragswerk „Demütig vor Gott“ des südafrikanischen Komponisten Chris Lamprecht. \nWir möchten Sie mit auf eine Reise nehmen\, die mit Werken aus dem Barock (Bach\, Monteverdi und Scarlatti) und der Romantik (Verdi und Mendelssohn) beginnt und mit einigen weltlichen Kompositionen endet\, unter anderem mit einer Reihe von lebhaften südafrikanischen Volksliedern.
URL:https://landesjugendchor.bz.it/event/carpe-diem-fruehjahrskonzerte-2022/
LOCATION:Pfarrkirche Algund
CATEGORIES:Chorkonzert
ATTACH;FMTTYPE=image/jpeg:https://landesjugendchor.bz.it/wp-content/uploads/2022/05/Landes-Jugendchor-Suedtirol-apr-2022-32-scaled.jpg
END:VEVENT
BEGIN:VEVENT
DTSTART;TZID=Europe/Berlin:20211113T200000
DTEND;TZID=Europe/Berlin:20211113T210000
DTSTAMP:20260419T152723
CREATED:20200314T183755Z
LAST-MODIFIED:20211107T200657Z
UID:305-1636833600-1636837200@landesjugendchor.bz.it
SUMMARY:Herbstkonzert 2021 - Peace\, Light & Love
DESCRIPTION:Der Landesjugendchor Südtirol lädt nach über einem Jahr Pause wieder zu einem Chorkonzert mit dem Titel „Peace\, Light & Love“ ein. \nUnter der Leitung von Johann van der Sandt präsentieren die jungen Sängerinnen und Sänger des Landesjugendchors Südtirol ein abwechslungsreiches Konzertprogramm für Jung bis Alt. Auf dem Programm stehen ua. \n  \n\nVerleih uns Frieden – Felix Mendelssohn\nDer Erlkönig – Ludwig von Beethoven\, arr.: Jaakko Mäntyjärvi\nLove of my life – Freddie Mercury\, arr.: Mia Makaroff\nuvm…\n\nFür den Konzertbesuch ist der “Green Pass” erforderlich! \nEintritt: Freiwillige Spende \nPlatzreservierungen sind über veranstaltungen@scv.bz.it möglich. \n 
URL:https://landesjugendchor.bz.it/event/fruehjahrskonzert/
LOCATION:Kurhaus Meran\, Freiheitsstr. 33\, Meran\, Bozen\, 39012\, Italien
CATEGORIES:Chorkonzert
ATTACH;FMTTYPE=image/jpeg:https://landesjugendchor.bz.it/wp-content/uploads/2020/03/LJCh-social.jpg
ORGANIZER;CN="S%C3%BCdtiroler Chorverband":MAILTO:info@scv.bz.it
END:VEVENT
END:VCALENDAR