BEGIN:VCALENDAR
VERSION:2.0
PRODID:-//Landesjugendchor Südtirol - ECPv6.10.2//NONSGML v1.0//EN
CALSCALE:GREGORIAN
METHOD:PUBLISH
X-WR-CALNAME:Landesjugendchor Südtirol
X-ORIGINAL-URL:https://landesjugendchor.bz.it
X-WR-CALDESC:Veranstaltungen für Landesjugendchor Südtirol
REFRESH-INTERVAL;VALUE=DURATION:PT1H
X-Robots-Tag:noindex
X-PUBLISHED-TTL:PT1H
BEGIN:VTIMEZONE
TZID:Europe/Berlin
BEGIN:DAYLIGHT
TZOFFSETFROM:+0100
TZOFFSETTO:+0200
TZNAME:CEST
DTSTART:20240331T010000
END:DAYLIGHT
BEGIN:STANDARD
TZOFFSETFROM:+0200
TZOFFSETTO:+0100
TZNAME:CET
DTSTART:20241027T010000
END:STANDARD
END:VTIMEZONE
BEGIN:VEVENT
DTSTART;TZID=Europe/Berlin:20241013T100000
DTEND;TZID=Europe/Berlin:20241013T110000
DTSTAMP:20260419T170006
CREATED:20240512T175350Z
LAST-MODIFIED:20240528T164744Z
UID:1897-1728813600-1728817200@landesjugendchor.bz.it
SUMMARY:Messgestaltung zum Landessingen im Brixner Dom
DESCRIPTION:
URL:https://landesjugendchor.bz.it/event/messgestaltung-zum-landessingen-im-brixner-dom/
LOCATION:Brixner Dom\, Domplatz\, Brixen\, 39042\, Italien
CATEGORIES:Messgestaltung
ATTACH;FMTTYPE=image/jpeg:https://landesjugendchor.bz.it/wp-content/uploads/2024/05/APR_9366-scaled.jpg
END:VEVENT
END:VCALENDAR