BEGIN:VCALENDAR
VERSION:2.0
PRODID:-//Landesjugendchor Südtirol - ECPv6.10.2//NONSGML v1.0//EN
CALSCALE:GREGORIAN
METHOD:PUBLISH
X-WR-CALNAME:Landesjugendchor Südtirol
X-ORIGINAL-URL:https://landesjugendchor.bz.it
X-WR-CALDESC:Veranstaltungen für Landesjugendchor Südtirol
REFRESH-INTERVAL;VALUE=DURATION:PT1H
X-Robots-Tag:noindex
X-PUBLISHED-TTL:PT1H
BEGIN:VTIMEZONE
TZID:Europe/Berlin
BEGIN:DAYLIGHT
TZOFFSETFROM:+0100
TZOFFSETTO:+0200
TZNAME:CEST
DTSTART:20210328T010000
END:DAYLIGHT
BEGIN:STANDARD
TZOFFSETFROM:+0200
TZOFFSETTO:+0100
TZNAME:CET
DTSTART:20211031T010000
END:STANDARD
END:VTIMEZONE
BEGIN:VEVENT
DTSTART;TZID=Europe/Berlin:20211113T200000
DTEND;TZID=Europe/Berlin:20211113T210000
DTSTAMP:20260419T182000
CREATED:20200314T183755Z
LAST-MODIFIED:20211107T200657Z
UID:305-1636833600-1636837200@landesjugendchor.bz.it
SUMMARY:Herbstkonzert 2021 - Peace\, Light & Love
DESCRIPTION:Der Landesjugendchor Südtirol lädt nach über einem Jahr Pause wieder zu einem Chorkonzert mit dem Titel „Peace\, Light & Love“ ein. \nUnter der Leitung von Johann van der Sandt präsentieren die jungen Sängerinnen und Sänger des Landesjugendchors Südtirol ein abwechslungsreiches Konzertprogramm für Jung bis Alt. Auf dem Programm stehen ua. \n  \n\nVerleih uns Frieden – Felix Mendelssohn\nDer Erlkönig – Ludwig von Beethoven\, arr.: Jaakko Mäntyjärvi\nLove of my life – Freddie Mercury\, arr.: Mia Makaroff\nuvm…\n\nFür den Konzertbesuch ist der “Green Pass” erforderlich! \nEintritt: Freiwillige Spende \nPlatzreservierungen sind über veranstaltungen@scv.bz.it möglich. \n 
URL:https://landesjugendchor.bz.it/event/fruehjahrskonzert/
LOCATION:Kurhaus Meran\, Freiheitsstr. 33\, Meran\, Bozen\, 39012\, Italien
CATEGORIES:Chorkonzert
ATTACH;FMTTYPE=image/jpeg:https://landesjugendchor.bz.it/wp-content/uploads/2020/03/LJCh-social.jpg
ORGANIZER;CN="S%C3%BCdtiroler Chorverband":MAILTO:info@scv.bz.it
END:VEVENT
END:VCALENDAR