BEGIN:VCALENDAR
VERSION:2.0
PRODID:-//Landesjugendchor Südtirol - ECPv6.10.2//NONSGML v1.0//EN
CALSCALE:GREGORIAN
METHOD:PUBLISH
X-WR-CALNAME:Landesjugendchor Südtirol
X-ORIGINAL-URL:https://landesjugendchor.bz.it
X-WR-CALDESC:Veranstaltungen für Landesjugendchor Südtirol
REFRESH-INTERVAL;VALUE=DURATION:PT1H
X-Robots-Tag:noindex
X-PUBLISHED-TTL:PT1H
BEGIN:VTIMEZONE
TZID:Europe/Berlin
BEGIN:DAYLIGHT
TZOFFSETFROM:+0100
TZOFFSETTO:+0200
TZNAME:CEST
DTSTART:20230326T010000
END:DAYLIGHT
BEGIN:STANDARD
TZOFFSETFROM:+0200
TZOFFSETTO:+0100
TZNAME:CET
DTSTART:20231029T010000
END:STANDARD
END:VTIMEZONE
BEGIN:VEVENT
DTSTART;TZID=Europe/Berlin:20231216T180000
DTEND;TZID=Europe/Berlin:20231216T190000
DTSTAMP:20260421T111721
CREATED:20231208T214048Z
LAST-MODIFIED:20231208T214049Z
UID:1837-1702749600-1702753200@landesjugendchor.bz.it
SUMMARY:Adventskonzert in Pfalzen
DESCRIPTION:Adventskonzert „Sing for myself“\n\n\n\n\n\n\n\n\nPROGRAMM\nOrlando Gibbons (1583-1625)\nDrop\, drop\, slow tears \nClaudio Monteverdi (1567–1643)\nChriste\, adoramus te (a 5 voci) SV 294\n(from: Libro Primo de Motetti\, Giulio Cesare Bianchi) \nSergey Khvoshchinsky (1957)\nBogoroditse Devo\, raduysia \nHendrik Hofmeyr (1957)\nGenesis \nZ. Randall Stroope (1953)\nIn paradisum \nJohn August Pamintuan (b.1972)\nIn supremae nocte cenae \nAlfred Schnittke (1934-1998)\nBogoroditse devo\, raduysya\, Blagodatnaya Maria \n(from: Three Sacred Hymns) \nJoshua Shank (1980)\nGabriel’s Message \nAfrican American spiritual\, arr.: Cedric Dent\nHe’s got the whole world \nAfrican American Spiritual\, arr.: Mia Makaroff (1970)\nDidn‘t My Lord Deliver Daniel \narr.: Mbuso Ndlovu\nYehla Moya (South African\, isiZulu Spiritual) \nMbuso Ndlovu (1982)\nNgivumeleni – Text. SiSwati Traditional (South Africa) \n\n\n\n\n\n\n\n\nTraditional IsiXhosa arr.: M. Barrett\nNdikhokhele Bawo \n\n\n\n\n\nLeitung: JOHANN VAN DER SANDT\nStudierte Chorleitung an der Universität von Pretoria (Südafrika) sowie am Institut für Chorleiterausbildung in Gorinchem (NL). Als gefragter Juror\, Dirigent und Dozentist er auf nationaler und internationaler Ebene tätig. Zahlreiche Erfolge begleiten seine künstlerische Karriere.\nDer Drakensberger Knabenchor zum Beispiel entwickelte sich unter seiner Leitung zu einem der besten Knabenchöre weltweit. Derzeit ist er Professor für Musikpädagogik an der Universität Bozen. Seit 2018 leitet er unseren Landesjugendchor. \nStimmbildnerin Petra Sölva \nChororganisator Klaus Gufler
URL:https://landesjugendchor.bz.it/event/adventskonzert-in-pfalzen/
LOCATION:Pfarrkirche zum Hl. Cyriacus – Pfalzen\, Piazza Municipio 1\, Pfalzen\, 39030\, Italien
CATEGORIES:Chorkonzert
ATTACH;FMTTYPE=image/png:https://landesjugendchor.bz.it/wp-content/uploads/2023/11/LJC.png
END:VEVENT
END:VCALENDAR